BEGIN:VCALENDAR
VERSION:2.0
PRODID:icalendar-ruby
CALSCALE:GREGORIAN
METHOD:PUBLISH
BEGIN:VEVENT
DTSTAMP:20260421T204529Z
UID:5-2147634@peacemissionary.tithelysetup2.com
DTSTART:20260531T150000Z
DTEND:20260531T160000Z
CLASS:PUBLIC
CREATED:20260415T014841
DESCRIPTION:Sunday Worship
LAST-MODIFIED:20260415T014841
LOCATION:
SUMMARY:Sunday Worship
URL;VALUE=URI:https://peacemissionary.tithelysetup2.com/events/sunday-worsh
 ip/2026-05-31
END:VEVENT
END:VCALENDAR
